BEGIN:VCALENDAR
VERSION:2.0
PRODID:-//Circle Of Friends Club - ECPv6.15.10//NONSGML v1.0//EN
CALSCALE:GREGORIAN
METHOD:PUBLISH
X-ORIGINAL-URL:https://circleoffriendsclub.com
X-WR-CALDESC:Events for Circle Of Friends Club
REFRESH-INTERVAL;VALUE=DURATION:PT1H
X-Robots-Tag:noindex
X-PUBLISHED-TTL:PT1H
BEGIN:VTIMEZONE
TZID:UTC
BEGIN:STANDARD
TZOFFSETFROM:+0000
TZOFFSETTO:+0000
TZNAME:UTC
DTSTART:20250101T000000
END:STANDARD
END:VTIMEZONE
BEGIN:VEVENT
DTSTART;TZID=UTC:20260415T190000
DTEND;TZID=UTC:20260415T200000
DTSTAMP:20260414T074936
CREATED:20260217T122755Z
LAST-MODIFIED:20260413T163448Z
UID:10001672-1776279600-1776283200@circleoffriendsclub.com
SUMMARY:THE BOUGIE BALDIE PODCAST | SEASON 2
DESCRIPTION:Kellie Rhymes launches season two of the Bougie Baldie Podcast and interviews Johanna Dalman\, founder of Alopecia Angel and host of the Alopecia Angel Podcast for part 2. \nJohanna recounts being diagnosed with alopecia areata after a stylist found a bald spot\, seeing multiple doctors across Europe and the U.S.\, and declining pharmaceuticals due to fertility concerns and side effects. \nAfter four years of research and holistic healing\, she regained her hair\, resolved related symptoms\, and later had a healthy pregnancy at 40. She explains her individualized Hair and Heal program\, including a 12-page evaluation\, functional medicine testing offered worldwide\, and tailored protocols for various hair-loss types\, noting many clients see shedding stop quickly and growth within weeks. \nJohanna critiques medication-driven healthcare\, warns of risks such as JAK inhibitors\, discusses progress with scarring alopecia\, emphasizes community support via international coaching calls\, and highlights her 200+ episode podcast; Kellie also promotes The Bougie Baldie Show on Zondra TV and sponsorship opportunities. \nLinks:\nhttps://alopeciaangel.com \nInstagram\nFacebook\nYoutube\nThe Bougie Baldie TV Show Bald Confidence is officially out! Listen first hand to women that have experienced various forms of hair loss and have come out on the other side of acceptance and confidence.\nYou can watch the entire season at www.zondratv.com \n\n\n\n. Make sure you check it out! \nWork with Kellie Rhymes\, Women’s Hair Loss Support and Authenticity Coach\nWebsite\nhttps://lnkd.in/e56HnewH \nFollow me at:\nInstagram\nhttps://lnkd.in/etCqrSua \nFacebook\nhttps://lnkd.in/errZaaDg \nTikTok\nhttps://lnkd.in/evn7JY98 \nLinkedIn\nhttps://lnkd.in/edZUAWkS \nThe Bougie Baldie Podcast can be found on:\nSPOTIFY\nhttps://lnkd.in/eUSp4nsk \nAMAZON MUSIC\nhttps://lnkd.in/eE_RbFu6 \n\nAPPLE PODCASTS\n\nhttps://lnkd.in/eZq2KK2k \nYOUTUBE\nhttps://lnkd.in/eGuf5tzs
URL:https://circleoffriendsclub.com/event/the-bougie-baldie-podcast/
LOCATION:Linkedin LIVE
CATEGORIES:Livestream Podcast
ATTACH;FMTTYPE=image/png:https://circleoffriendsclub.com/wp-content/uploads/2026/02/BOUGIE-BALDIE-PODCAST-SEASON-2-THUMBNAIL.png
END:VEVENT
END:VCALENDAR