BEGIN:VCALENDAR
VERSION:2.0
PRODID:-//Circle Of Friends Club - ECPv6.15.10//NONSGML v1.0//EN
CALSCALE:GREGORIAN
METHOD:PUBLISH
X-ORIGINAL-URL:https://circleoffriendsclub.com
X-WR-CALDESC:Events for Circle Of Friends Club
REFRESH-INTERVAL;VALUE=DURATION:PT1H
X-Robots-Tag:noindex
X-PUBLISHED-TTL:PT1H
BEGIN:VTIMEZONE
TZID:America/New_York
BEGIN:DAYLIGHT
TZOFFSETFROM:-0500
TZOFFSETTO:-0400
TZNAME:EDT
DTSTART:20250309T070000
END:DAYLIGHT
BEGIN:STANDARD
TZOFFSETFROM:-0400
TZOFFSETTO:-0500
TZNAME:EST
DTSTART:20251102T060000
END:STANDARD
BEGIN:DAYLIGHT
TZOFFSETFROM:-0500
TZOFFSETTO:-0400
TZNAME:EDT
DTSTART:20260308T070000
END:DAYLIGHT
BEGIN:STANDARD
TZOFFSETFROM:-0400
TZOFFSETTO:-0500
TZNAME:EST
DTSTART:20261101T060000
END:STANDARD
BEGIN:DAYLIGHT
TZOFFSETFROM:-0500
TZOFFSETTO:-0400
TZNAME:EDT
DTSTART:20270314T070000
END:DAYLIGHT
BEGIN:STANDARD
TZOFFSETFROM:-0400
TZOFFSETTO:-0500
TZNAME:EST
DTSTART:20271107T060000
END:STANDARD
END:VTIMEZONE
BEGIN:VEVENT
DTSTART;TZID=America/New_York:20260418T120000
DTEND;TZID=America/New_York:20260418T130000
DTSTAMP:20260420T151922
CREATED:20260124T153308Z
LAST-MODIFIED:20260411T144551Z
UID:10001671-1776513600-1776517200@circleoffriendsclub.com
SUMMARY:LET'S TALK CALI
DESCRIPTION:This IG Live provides an interactive platform for individuals to learn and discuss the wonderful culture in Cali\, Colombia. Locals\, travelers\, and expats are encouraged to join this live to engage in interactive discussions covering a wide range of topics that focus on the food\, culture\, salsa dancing\, and current events in Cali\, Colombia.
URL:https://circleoffriendsclub.com/event/lets-talk-cali/
LOCATION:Instagram LIVE\, Cali\, Colombia
CATEGORIES:Cali Event
ATTACH;FMTTYPE=image/png:https://circleoffriendsclub.com/wp-content/uploads/2026/01/Untitled-design-5.png
END:VEVENT
END:VCALENDAR